Workbook

Sheet Instructions
A1: Completing the Meals Per Labor Hour (MPLH) Worksheet
C2: A district must determine the basic plan of the food services organization to ensure the right positions are developed to support the organization and the size since personnel are instrumental to the success of the operation. Calculating Meals Per Labor Hour assists with this process. (1)
A3: Row #2
B4: Column B: | C4: Enter CE Name- (Contracting Entity)
B5: Column F: | C5: Enter CE ID number
B6: Column J: | C6: Data Timeframe
C7: Note: Your data timeframe can be any amount of time- one month is a best practice as far as a minimum. It may be appropriate to use a school years worth of data. Use this format (10/1/26 – 10/31/26)
A8: Row #4-end
B9: Column A: | C9: Enter each site name on separate lines (each site will be on its own row- up to 300 sites)
B10: Column B: | C10: Service Model Type –use drop down arrow to select conventional or convenience.
C11: Conventional service model is preparation of some foods from raw ingredients on premises (using some bakery breads and prepared pizza and washing dishes). (1)
C12: Convenience service mode is using maximum amount of processed foods (e.g., using all bakery breads, pre-cooked chicken, ready to serve raw fruits and vegetables, proportioned condiments and washing only trays and using disposable dinnerware).( 1)
B13: Column C: | C13: Enter the total number Breakfast Meals Served for the date range being used.
B14: Column D: | C14: Enter the total number of Lunch Meals Served for the date range being used.
B15: Column E: | C15: Enter the total number of Supper Meals Served for the date range being used. (leave blank if you do not participate in this program)
B16: Column F: | C16: Enter the total number of Snack Meals Served for the date range being used. (leave blank if you do not participate in this program)
B17: Column G: | C17: Enter the total Non- Program Revenue (Ex: a la carte sales, adult meals, visitor meals, catering, smart snacks from all meals services)(2)
B18: Column H: | C18: Enter the total number of Operating Days in the timeframe specified in J2.
C19: For example, if you selected the month of October (10/1/26 – 10/31/26) and you operated Monday -Friday all month, it would be 22 Operating Days. However, if there were two in-service days where students were not present, and no meal service occurred, it would be 20 Operating Days. For longer period of time, the number of operating days can be obtained from POS reports.
B20: Column I: | C20: Add the number of labor hours worked per day for all SFA (School Food Authority) Site staff (staff employed by the SFA)
C21: For example, if you have 1 SFA Manager who works 8 hours per day, 3 SFA employees who work 7.5 hours per day, and 2 SFA employees who work 4 hours per day, the total is 38.5 hours. -SFA Site Total Labors Per Day (#) column 8.0 + 7.5+7.5+7.5+4.0 +4.0=38.5 hours.
B22: Column J: | C22: Add the number of total labor hours worked per day for FSMC (Food Service Management Company) Site staff
C23: For example, if you have 1 FSMC Manager who works 8 hours per day, 2 FSMC employees who work 6 hours a day, and 2 FSMC employees who work 4 hours per day, the total is 28 hours -SFA Site Total Labors Per Day (#) column 8.0+ 6.0+6.0+4.0 +4.0=28 hours.
B24: Column K-M: | C24: These columns calculate automatically from the data you entered in columns A-J. If column M displays red, it means that your MPLH are outside the service model targets and your labor may need adjusting. Green indicates you are within the targets.
B25: Reference Links:
B26: 1 | C26: =HYPERLINK("https://squaremeals.org/Portals/8/files/FSMC/2024/TDA%20Staffing%20Guidelines%202024-25.pdf?ver=gkiF_avYfpkkqrz35x9wGw%3d%3d", "TDA Staffing Guidelines 2024-2025") -> TDA Staffing Guidelines 2024-2025
B27: 2 | C27: =HYPERLINK("https://squaremeals.org/Portals/8/files/H1N1/Coronavirus/Financial/Financial%20Management%20Nuts%20and%20Bolts.pdf","TDA Nuts and Bolts Financial Management") -> TDA Nuts and Bolts Financial Management
C30: Revised 09/21/26

Sheet MPLH Worksheet
A1: Meals Per Labor Hour (MPLH) Worksheet - Program Year 2026-2027
A2: CE Name | E2: CE ID# | I2: Data Timeframe | L2: MEF | M2: =Data!C1 -> 5.16
A3: Site Name | B3: Service Model Type | C3: Total Breakfast Meals Served (#) | D3: Total Lunch Meals Served (#) | E3: Total Supper Meals Served (#) | F3: Total Snack Meals Served (#) | G3: Total Non-Program Sales ($) | H3: Operating Days (#) | I3: SFA Site Staff - Total Labors Per Day (#) | J3: FSMC Site Staff - Total Labors Per Day (#) | K3: Combined Site Staff - Total Labors Per Day (#) | L3: Total Meal Equivalents (MEQ) | M3: Meals Per Labor Hour (MPLH) | N3: Total A La Carte Sales ($) Conversion | O3: Aggregate Totals By Type (#)
K4: =IF(I4+J4=0,"",I4+J4) | L4: =IF(K4="","",SUM(($C4/2)+$D4+$E4+($F4/3)+$N4)/$H4) | M4: =IF(K4="","",L4/K4) | N4: =G4/Data!$C$1 -> 0 | O4: Breakfast | Q4: =IF(SUM(C$4:C$303)=0,"",SUM(C$4:C$303))
K5: =IF(I5+J5=0,"",I5+J5) | L5: =IF(K5="","",SUM((C5/2)+D5+E5+(F5/3)+N5)/H5) | M5: =IF(K5="","",L5/K5) | N5: =G5/Data!$C$1 -> 0 | O5: Lunch | Q5: =IF(SUM(D$4:D$303)=0,"",SUM(D$4:D$303))
K6: =IF(I6+J6=0,"",I6+J6) | L6: =IF(K6="","",SUM((C6/2)+D6+E6+(F6/3)+N6)/H6) | M6: =IF(K6="","",L6/K6) | N6: =G6/Data!$C$1 -> 0 | O6: Supper | Q6: =IF(SUM(E$4:E$303)=0,"",SUM(E$4:E$303))
K7: =IF(I7+J7=0,"",I7+J7) | L7: =IF(K7="","",SUM((C7/2)+D7+E7+(F7/3)+N7)/H7) | M7: =IF(K7="","",L7/K7) | N7: =G7/Data!$C$1 -> 0 | O7: Snack | Q7: =IF(SUM(F$4:F$303)=0,"",SUM(F$4:F$303))
K8: =IF(I8+J8=0,"",I8+J8) | L8: =IF(K8="","",SUM((C8/2)+D8+E8+(F8/3)+N8)/H8) | M8: =IF(K8="","",L8/K8) | N8: =G8/Data!$C$1 -> 0 | O8: Non-Program | Q8: =IF(SUM(G$4:G$303)=0,"",SUM(G$4:G$303))
K9: =IF(I9+J9=0,"",I9+J9) | L9: =IF(K9="","",SUM((C9/2)+D9+E9+(F9/3)+N9)/H9) | M9: =IF(K9="","",L9/K9) | N9: =G9/Data!$C$1 -> 0
K10: =IF(I10+J10=0,"",I10+J10) | L10: =IF(K10="","",SUM((C10/2)+D10+E10+(F10/3)+N10)/H10) | M10: =IF(K10="","",L10/K10) | N10: =G10/Data!$C$1 -> 0
K11: =IF(I11+J11=0,"",I11+J11) | L11: =IF(K11="","",SUM((C11/2)+D11+E11+(F11/3)+N11)/H11) | M11: =IF(K11="","",L11/K11) | N11: =G11/Data!$C$1 -> 0
K12: =IF(I12+J12=0,"",I12+J12) | L12: =IF(K12="","",SUM((C12/2)+D12+E12+(F12/3)+N12)/H12) | M12: =IF(K12="","",L12/K12) | N12: =G12/Data!$C$1 -> 0
K13: =IF(I13+J13=0,"",I13+J13) | L13: =IF(K13="","",SUM((C13/2)+D13+E13+(F13/3)+N13)/H13) | M13: =IF(K13="","",L13/K13) | N13: =G13/Data!$C$1 -> 0
K14: =IF(I14+J14=0,"",I14+J14) | L14: =IF(K14="","",SUM((C14/2)+D14+E14+(F14/3)+N14)/H14) | M14: =IF(K14="","",L14/K14) | N14: =G14/Data!$C$1 -> 0
K15: =IF(I15+J15=0,"",I15+J15) | L15: =IF(K15="","",SUM((C15/2)+D15+E15+(F15/3)+N15)/H15) | M15: =IF(K15="","",L15/K15) | N15: =G15/Data!$C$1 -> 0
K16: =IF(I16+J16=0,"",I16+J16) | L16: =IF(K16="","",SUM((C16/2)+D16+E16+(F16/3)+N16)/H16) | M16: =IF(K16="","",L16/K16) | N16: =G16/Data!$C$1 -> 0
K17: =IF(I17+J17=0,"",I17+J17) | L17: =IF(K17="","",SUM((C17/2)+D17+E17+(F17/3)+N17)/H17) | M17: =IF(K17="","",L17/K17) | N17: =G17/Data!$C$1 -> 0
K18: =IF(I18+J18=0,"",I18+J18) | L18: =IF(K18="","",SUM((C18/2)+D18+E18+(F18/3)+N18)/H18) | M18: =IF(K18="","",L18/K18) | N18: =G18/Data!$C$1 -> 0
K19: =IF(I19+J19=0,"",I19+J19) | L19: =IF(K19="","",SUM((C19/2)+D19+E19+(F19/3)+N19)/H19) | M19: =IF(K19="","",L19/K19) | N19: =G19/Data!$C$1 -> 0
K20: =IF(I20+J20=0,"",I20+J20) | L20: =IF(K20="","",SUM((C20/2)+D20+E20+(F20/3)+N20)/H20) | M20: =IF(K20="","",L20/K20) | N20: =G20/Data!$C$1 -> 0
K21: =IF(I21+J21=0,"",I21+J21) | L21: =IF(K21="","",SUM((C21/2)+D21+E21+(F21/3)+N21)/H21) | M21: =IF(K21="","",L21/K21)
K22: =IF(I22+J22=0,"",I22+J22) | L22: =IF(K22="","",SUM((C22/2)+D22+E22+(F22/3)+N22)/H22) | M22: =IF(K22="","",L22/K22)
K23: =IF(I23+J23=0,"",I23+J23) | L23: =IF(K23="","",SUM((C23/2)+D23+E23+(F23/3)+N23)/H23) | M23: =IF(K23="","",L23/K23) | N23: =G23/Data!$C$1 -> 0
K24: =IF(I24+J24=0,"",I24+J24) | L24: =IF(K24="","",SUM((C24/2)+D24+E24+(F24/3)+N24)/H24) | M24: =IF(K24="","",L24/K24) | N24: =G24/Data!$C$1 -> 0
K25: =IF(I25+J25=0,"",I25+J25) | L25: =IF(K25="","",SUM((C25/2)+D25+E25+(F25/3)+N25)/H25) | M25: =IF(K25="","",L25/K25) | N25: =G25/Data!$C$1 -> 0
K26: =IF(I26+J26=0,"",I26+J26) | L26: =IF(K26="","",SUM((C26/2)+D26+E26+(F26/3)+N26)/H26) | M26: =IF(K26="","",L26/K26) | N26: =G26/Data!$C$1 -> 0
K27: =IF(I27+J27=0,"",I27+J27) | L27: =IF(K27="","",SUM((C27/2)+D27+E27+(F27/3)+N27)/H27) | M27: =IF(K27="","",L27/K27) | N27: =G27/Data!$C$1 -> 0
K28: =IF(I28+J28=0,"",I28+J28) | L28: =IF(K28="","",SUM((C28/2)+D28+E28+(F28/3)+N28)/H28) | M28: =IF(K28="","",L28/K28) | N28: =G28/Data!$C$1 -> 0
K29: =IF(I29+J29=0,"",I29+J29) | L29: =IF(K29="","",SUM((C29/2)+D29+E29+(F29/3)+N29)/H29) | M29: =IF(K29="","",L29/K29) | N29: =G29/Data!$C$1 -> 0
K30: =IF(I30+J30=0,"",I30+J30) | L30: =IF(K30="","",SUM((C30/2)+D30+E30+(F30/3)+N30)/H30) | M30: =IF(K30="","",L30/K30) | N30: =G30/Data!$C$1 -> 0
K31: =IF(I31+J31=0,"",I31+J31) | L31: =IF(K31="","",SUM((C31/2)+D31+E31+(F31/3)+N31)/H31) | M31: =IF(K31="","",L31/K31) | N31: =G31/Data!$C$1 -> 0
K32: =IF(I32+J32=0,"",I32+J32) | L32: =IF(K32="","",SUM((C32/2)+D32+E32+(F32/3)+N32)/H32) | M32: =IF(K32="","",L32/K32) | N32: =G32/Data!$C$1 -> 0
K33: =IF(I33+J33=0,"",I33+J33) | L33: =IF(K33="","",SUM((C33/2)+D33+E33+(F33/3)+N33)/H33) | M33: =IF(K33="","",L33/K33) | N33: =G33/Data!$C$1 -> 0
K34: =IF(I34+J34=0,"",I34+J34) | L34: =IF(K34="","",SUM((C34/2)+D34+E34+(F34/3)+N34)/H34) | M34: =IF(K34="","",L34/K34) | N34: =G34/Data!$C$1 -> 0
... K303: =IF(I303+J303=0,"",I303+J303) | L303: =IF(K303="","",SUM((C303/2)+D303+E303+(F303/3)+N303)/H303) | M303: =IF(K303="","",L303/K303) | N303: =G303/Data!$C$1 -> 0
A304: Revised 06.17.26

Sheet Data
A1: 2026.2027 MEF | C1: 5.16 | E1: Conventional
E2: Convenience

Sheet Participation Data
A1: Site Name | B1: Enrollment | C1: Breakfast ADP (%) | D1: Lunch ADP (%) | E1: Supper ADP (%) | F1: Snack ADP (%) | G1: Breakfast MEQ | H1: Lunch MEQ | I1: Supper MEQ | J1: Snack MEQ | K1: Non-Program MEQ
A2: =IF('MPLH Worksheet'!A4=0,"",('MPLH Worksheet'!A4)) | C2: =IF(B2=0,"",('MPLH Worksheet'!C4/'MPLH Worksheet'!$H4/B2)) | D2: =IF(B2=0,"",('MPLH Worksheet'!D4/'MPLH Worksheet'!$H4/B2)) | E2: =IF(B2=0,"",('MPLH Worksheet'!E4/'MPLH Worksheet'!$H4/B2)) | F2: =IF(B2=0,"",('MPLH Worksheet'!F4/'MPLH Worksheet'!$H4/B2)) | G2: =IF($B2=0,"",('MPLH Worksheet'!C4/2)) | H2: =IF($B2=0,"",('MPLH Worksheet'!D4)) | I2: =IF($B2=0,"",('MPLH Worksheet'!E4)) | J2: =IF($B2=0,"",('MPLH Worksheet'!F4/3)) | K2: =IF($B2=0,"",('MPLH Worksheet'!G4/'MPLH Worksheet'!$M$2))
A3: =IF('MPLH Worksheet'!A5=0,"",('MPLH Worksheet'!A5)) | C3: =IF(B3=0,"",('MPLH Worksheet'!C5/'MPLH Worksheet'!$H5/B3)) | D3: =IF(B3=0,"",('MPLH Worksheet'!D5/'MPLH Worksheet'!$H5/B3)) | E3: =IF(B3=0,"",('MPLH Worksheet'!E5/'MPLH Worksheet'!$H5/B3)) | F3: =IF(B3=0,"",('MPLH Worksheet'!F5/'MPLH Worksheet'!$H5/B3)) | G3: =IF($B3=0,"",('MPLH Worksheet'!C5/2)) | H3: =IF($B3=0,"",('MPLH Worksheet'!D5)) | I3: =IF($B3=0,"",('MPLH Worksheet'!E5)) | J3: =IF($B3=0,"",('MPLH Worksheet'!F5/3)) | K3: =IF($B3=0,"",('MPLH Worksheet'!G5/'MPLH Worksheet'!$M$2))
A4: =IF('MPLH Worksheet'!A6=0,"",('MPLH Worksheet'!A6)) | C4: =IF(B4=0,"",('MPLH Worksheet'!C6/'MPLH Worksheet'!$H6/B4)) | D4: =IF(B4=0,"",('MPLH Worksheet'!D6/'MPLH Worksheet'!$H6/B4)) | E4: =IF(B4=0,"",('MPLH Worksheet'!E6/'MPLH Worksheet'!$H6/B4)) | F4: =IF(B4=0,"",('MPLH Worksheet'!F6/'MPLH Worksheet'!$H6/B4)) | G4: =IF($B4=0,"",('MPLH Worksheet'!C6/2)) | H4: =IF($B4=0,"",('MPLH Worksheet'!D6)) | I4: =IF($B4=0,"",('MPLH Worksheet'!E6)) | J4: =IF($B4=0,"",('MPLH Worksheet'!F6/3)) | K4: =IF($B4=0,"",('MPLH Worksheet'!G6/'MPLH Worksheet'!$M$2))
A5: =IF('MPLH Worksheet'!A7=0,"",('MPLH Worksheet'!A7)) | C5: =IF(B5=0,"",('MPLH Worksheet'!C7/'MPLH Worksheet'!$H7/B5)) | D5: =IF(B5=0,"",('MPLH Worksheet'!D7/'MPLH Worksheet'!$H7/B5)) | E5: =IF(B5=0,"",('MPLH Worksheet'!E7/'MPLH Worksheet'!$H7/B5)) | F5: =IF(B5=0,"",('MPLH Worksheet'!F7/'MPLH Worksheet'!$H7/B5)) | G5: =IF($B5=0,"",('MPLH Worksheet'!C7/2)) | H5: =IF($B5=0,"",('MPLH Worksheet'!D7)) | I5: =IF($B5=0,"",('MPLH Worksheet'!E7)) | J5: =IF($B5=0,"",('MPLH Worksheet'!F7/3)) | K5: =IF($B5=0,"",('MPLH Worksheet'!G7/'MPLH Worksheet'!$M$2))
A6: =IF('MPLH Worksheet'!A8=0,"",('MPLH Worksheet'!A8)) | C6: =IF(B6=0,"",('MPLH Worksheet'!C8/'MPLH Worksheet'!$H8/B6)) | D6: =IF(B6=0,"",('MPLH Worksheet'!D8/'MPLH Worksheet'!$H8/B6)) | E6: =IF(B6=0,"",('MPLH Worksheet'!E8/'MPLH Worksheet'!$H8/B6)) | F6: =IF(B6=0,"",('MPLH Worksheet'!F8/'MPLH Worksheet'!$H8/B6)) | G6: =IF($B6=0,"",('MPLH Worksheet'!C8/2)) | H6: =IF($B6=0,"",('MPLH Worksheet'!D8)) | I6: =IF($B6=0,"",('MPLH Worksheet'!E8)) | J6: =IF($B6=0,"",('MPLH Worksheet'!F8/3)) | K6: =IF($B6=0,"",('MPLH Worksheet'!G8/'MPLH Worksheet'!$M$2))
A7: =IF('MPLH Worksheet'!A9=0,"",('MPLH Worksheet'!A9)) | C7: =IF(B7=0,"",('MPLH Worksheet'!C9/'MPLH Worksheet'!$H9/B7)) | D7: =IF(B7=0,"",('MPLH Worksheet'!D9/'MPLH Worksheet'!$H9/B7)) | E7: =IF(B7=0,"",('MPLH Worksheet'!E9/'MPLH Worksheet'!$H9/B7)) | F7: =IF(B7=0,"",('MPLH Worksheet'!F9/'MPLH Worksheet'!$H9/B7)) | G7: =IF($B7=0,"",('MPLH Worksheet'!C9/2)) | H7: =IF($B7=0,"",('MPLH Worksheet'!D9)) | I7: =IF($B7=0,"",('MPLH Worksheet'!E9)) | J7: =IF($B7=0,"",('MPLH Worksheet'!F9/3)) | K7: =IF($B7=0,"",('MPLH Worksheet'!G9/'MPLH Worksheet'!$M$2))
A8: =IF('MPLH Worksheet'!A10=0,"",('MPLH Worksheet'!A10)) | C8: =IF(B8=0,"",('MPLH Worksheet'!C10/'MPLH Worksheet'!$H10/B8)) | D8: =IF(B8=0,"",('MPLH Worksheet'!D10/'MPLH Worksheet'!$H10/B8)) | E8: =IF(B8=0,"",('MPLH Worksheet'!E10/'MPLH Worksheet'!$H10/B8)) | F8: =IF(B8=0,"",('MPLH Worksheet'!F10/'MPLH Worksheet'!$H10/B8)) | G8: =IF($B8=0,"",('MPLH Worksheet'!C10/2)) | H8: =IF($B8=0,"",('MPLH Worksheet'!D10)) | I8: =IF($B8=0,"",('MPLH Worksheet'!E10)) | J8: =IF($B8=0,"",('MPLH Worksheet'!F10/3)) | K8: =IF($B8=0,"",('MPLH Worksheet'!G10/'MPLH Worksheet'!$M$2))
A9: =IF('MPLH Worksheet'!A11=0,"",('MPLH Worksheet'!A11)) | C9: =IF(B9=0,"",('MPLH Worksheet'!C11/'MPLH Worksheet'!$H11/B9)) | D9: =IF(B9=0,"",('MPLH Worksheet'!D11/'MPLH Worksheet'!$H11/B9)) | E9: =IF(B9=0,"",('MPLH Worksheet'!E11/'MPLH Worksheet'!$H11/B9)) | F9: =IF(B9=0,"",('MPLH Worksheet'!F11/'MPLH Worksheet'!$H11/B9)) | G9: =IF($B9=0,"",('MPLH Worksheet'!C11/2)) | H9: =IF($B9=0,"",('MPLH Worksheet'!D11)) | I9: =IF($B9=0,"",('MPLH Worksheet'!E11)) | J9: =IF($B9=0,"",('MPLH Worksheet'!F11/3)) | K9: =IF($B9=0,"",('MPLH Worksheet'!G11/'MPLH Worksheet'!$M$2))
A10: =IF('MPLH Worksheet'!A12=0,"",('MPLH Worksheet'!A12)) | C10: =IF(B10=0,"",('MPLH Worksheet'!C12/'MPLH Worksheet'!$H12/B10)) | D10: =IF(B10=0,"",('MPLH Worksheet'!D12/'MPLH Worksheet'!$H12/B10)) | E10: =IF(B10=0,"",('MPLH Worksheet'!E12/'MPLH Worksheet'!$H12/B10)) | F10: =IF(B10=0,"",('MPLH Worksheet'!F12/'MPLH Worksheet'!$H12/B10)) | G10: =IF($B10=0,"",('MPLH Worksheet'!C12/2)) | H10: =IF($B10=0,"",('MPLH Worksheet'!D12)) | I10: =IF($B10=0,"",('MPLH Worksheet'!E12)) | J10: =IF($B10=0,"",('MPLH Worksheet'!F12/3)) | K10: =IF($B10=0,"",('MPLH Worksheet'!G12/'MPLH Worksheet'!$M$2))
A11: =IF('MPLH Worksheet'!A13=0,"",('MPLH Worksheet'!A13)) | C11: =IF(B11=0,"",('MPLH Worksheet'!C13/'MPLH Worksheet'!$H13/B11)) | D11: =IF(B11=0,"",('MPLH Worksheet'!D13/'MPLH Worksheet'!$H13/B11)) | E11: =IF(B11=0,"",('MPLH Worksheet'!E13/'MPLH Worksheet'!$H13/B11)) | F11: =IF(B11=0,"",('MPLH Worksheet'!F13/'MPLH Worksheet'!$H13/B11)) | G11: =IF($B11=0,"",('MPLH Worksheet'!C13/2)) | H11: =IF($B11=0,"",('MPLH Worksheet'!D13)) | I11: =IF($B11=0,"",('MPLH Worksheet'!E13)) | J11: =IF($B11=0,"",('MPLH Worksheet'!F13/3)) | K11: =IF($B11=0,"",('MPLH Worksheet'!G13/'MPLH Worksheet'!$M$2))
A12: =IF('MPLH Worksheet'!A14=0,"",('MPLH Worksheet'!A14)) | C12: =IF(B12=0,"",('MPLH Worksheet'!C14/'MPLH Worksheet'!$H14/B12)) | D12: =IF(B12=0,"",('MPLH Worksheet'!D14/'MPLH Worksheet'!$H14/B12)) | E12: =IF(B12=0,"",('MPLH Worksheet'!E14/'MPLH Worksheet'!$H14/B12)) | F12: =IF(B12=0,"",('MPLH Worksheet'!F14/'MPLH Worksheet'!$H14/B12)) | G12: =IF($B12=0,"",('MPLH Worksheet'!C14/2)) | H12: =IF($B12=0,"",('MPLH Worksheet'!D14)) | I12: =IF($B12=0,"",('MPLH Worksheet'!E14)) | J12: =IF($B12=0,"",('MPLH Worksheet'!F14/3)) | K12: =IF($B12=0,"",('MPLH Worksheet'!G14/'MPLH Worksheet'!$M$2))
A13: =IF('MPLH Worksheet'!A15=0,"",('MPLH Worksheet'!A15)) | C13: =IF(B13=0,"",('MPLH Worksheet'!C15/'MPLH Worksheet'!$H15/B13)) | D13: =IF(B13=0,"",('MPLH Worksheet'!D15/'MPLH Worksheet'!$H15/B13)) | E13: =IF(B13=0,"",('MPLH Worksheet'!E15/'MPLH Worksheet'!$H15/B13)) | F13: =IF(B13=0,"",('MPLH Worksheet'!F15/'MPLH Worksheet'!$H15/B13)) | G13: =IF($B13=0,"",('MPLH Worksheet'!C15/2)) | H13: =IF($B13=0,"",('MPLH Worksheet'!D15)) | I13: =IF($B13=0,"",('MPLH Worksheet'!E15)) | J13: =IF($B13=0,"",('MPLH Worksheet'!F15/3)) | K13: =IF($B13=0,"",('MPLH Worksheet'!G15/'MPLH Worksheet'!$M$2))
... A301: =IF('MPLH Worksheet'!A303=0,"",('MPLH Worksheet'!A303)) | C301: =IF(B301=0,"",('MPLH Worksheet'!C303/'MPLH Worksheet'!$H303/B301)) | D301: =IF(B301=0,"",('MPLH Worksheet'!D303/'MPLH Worksheet'!$H303/B301)) | E301: =IF(B301=0,"",('MPLH Worksheet'!E303/'MPLH Worksheet'!$H303/B301)) | F301: =IF(B301=0,"",('MPLH Worksheet'!F303/'MPLH Worksheet'!$H303/B301)) | G301: =IF($B301=0,"",('MPLH Worksheet'!C303/2)) | H301: =IF($B301=0,"",('MPLH Worksheet'!D303)) | I301: =IF($B301=0,"",('MPLH Worksheet'!E303)) | J301: =IF($B301=0,"",('MPLH Worksheet'!F303/3)) | K301: =IF($B301=0,"",('MPLH Worksheet'!G303/'MPLH Worksheet'!$M$2))
